BEGIN:VCALENDAR
VERSION:2.0
PRODID:-//Maragoli Hills Association - ECPv6.15.12.2//NONSGML v1.0//EN
CALSCALE:GREGORIAN
METHOD:PUBLISH
X-WR-CALNAME:Maragoli Hills Association
X-ORIGINAL-URL:https://maragolihillsassociation.org
X-WR-CALDESC:Events for Maragoli Hills Association
REFRESH-INTERVAL;VALUE=DURATION:PT1H
X-Robots-Tag:noindex
X-PUBLISHED-TTL:PT1H
BEGIN:VTIMEZONE
TZID:UTC
BEGIN:STANDARD
TZOFFSETFROM:+0000
TZOFFSETTO:+0000
TZNAME:UTC
DTSTART:20220101T000000
END:STANDARD
END:VTIMEZONE
BEGIN:VEVENT
DTSTART;TZID=UTC:20240403T090000
DTEND;TZID=UTC:20240903T233000
DTSTAMP:20260419T130702
CREATED:20200504T181127Z
LAST-MODIFIED:20231027T105242Z
UID:1741-1712134800-1725406200@maragolihillsassociation.org
SUMMARY:Food and Herbal products Expo
DESCRIPTION:The only trade fair event that focuses entirely on cultivation and technologies for the primary processing of medicinal plants and their primary by-products\, as well as expanding the global market for spices and herbal raw materials. \nA three-day event dedicated to business and discussions with industry professionals from around the world. \nThe exhibition will include numerous side events featuring international guests and an exclusive program of meetings with international buyers.
URL:https://maragolihillsassociation.org/event/startup-project-guide/
CATEGORIES:Events
ATTACH;FMTTYPE=image/jpeg:https://maragolihillsassociation.org/wp-content/uploads/2020/05/unnamed.jpg
END:VEVENT
BEGIN:VEVENT
DTSTART;VALUE=DATE:20230812
DTEND;VALUE=DATE:20231217
DTSTAMP:20260419T130702
CREATED:20200504T181610Z
LAST-MODIFIED:20231027T111641Z
UID:1743-1691798400-1702771199@maragolihillsassociation.org
SUMMARY:Bike Race
DESCRIPTION:Maragoli Hills Bike Race: Forest Trail XC \nThe Maragoli Hills Bike Race is an exhilarating off-road bike race that takes place in the scenic Maragoli Hills. \nThis thrilling event features a challenging circuit that winds through the forest\, following dedicated single tracks. \nAs the inaugural edition of this mountain bike race\, participants can expect an unforgettable experience in the heart of nature. \nRiders will be treated to the refreshing mountain air\, as they navigate the high altitude and undulating terrain of the Maragoli Hills. \nThe technical aspects of the race will test the skills and endurance of the participants\, making it a true test of their biking abilities. \nJoin us for the Maragoli Hills Bike Raceand embark on an adventure like no other in the stunning Maragoli Hills.
URL:https://maragolihillsassociation.org/event/bike-race/
LOCATION:maragoli hills
CATEGORIES:Bike Race,Events
ATTACH;FMTTYPE=image/webp:https://maragolihillsassociation.org/wp-content/uploads/2020/05/1a6d38ca-a8d0-4bf3-9fdb-faf595d7d26a-2060x1370-1.webp
END:VEVENT
BEGIN:VEVENT
DTSTART;VALUE=DATE:20231027
DTEND;VALUE=DATE:20231028
DTSTAMP:20260419T130702
CREATED:20200504T180421Z
LAST-MODIFIED:20231027T110047Z
UID:1737-1698364800-1698451199@maragolihillsassociation.org
SUMMARY:Corporates Mountain Hike
DESCRIPTION:Join us for an exhilarating adventure as we embark on the Corporates Mountain Hike on 29th March 2023 at Maragoli hills. This thrilling event is designed to bring together professionals from various corporate backgrounds for a day of outdoor exploration and team building. \nNestled in the picturesque Maragoli hills\, this hike promises breathtaking views\, challenging terrains\, and an opportunity to connect with nature. As we ascend the mountain\, participants will have the chance to push their limits\, conquer obstacles\, and experience the thrill of reaching new heights. \nThe Corporates Mountain Hike is not just about physical endurance; it is also a platform for networking and building relationships. As you trek alongside fellow professionals\, you will have the chance to engage in meaningful conversations\, share experiences\, and forge new connections that can potentially enhance your career. \nSafety is our utmost priority\, and we have a team of experienced guides who will accompany us throughout the hike. They will provide guidance\, support\, and ensure that everyone has a safe and enjoyable experience. Additionally\, we will have first aid personnel on standby to address any medical emergencies that may arise. \nTo make this event even more memorable\, we have planned a post-hike celebration where participants can unwind\, share stories\, and enjoy a delicious meal. This will be a perfect opportunity to relax\, reflect on the day’s achievements\, and celebrate the camaraderie built during the hike. \nWhether you are a seasoned hiker or a beginner looking for a new challenge\, the Corporates Mountain Hike is open to all fitness levels. It is a chance to step out of your comfort zone\, push your boundaries\, and discover the strength within you. \nSo mark your calendars for 29th March 2023 and get ready to embark on an unforgettable journey at Maragoli hills. Join us for the Corporates Mountain Hike and experience the thrill of conquering new heights while building lasting connections with like-minded professionals. \nDon’t miss out on this incredible opportunity. Register now and be a part of this extraordinary adventure!
URL:https://maragolihillsassociation.org/event/corporates-mountain-hike/
LOCATION:maragoli hills
CATEGORIES:Events,Mountain Hike
ATTACH;FMTTYPE=image/jpeg:https://maragolihillsassociation.org/wp-content/uploads/2020/05/Corporates-Mountain-Hike.jpg
END:VEVENT
END:VCALENDAR